BEGIN:VCALENDAR
VERSION:2.0
PRODID:-//VMJ.FI - ECPv6.15.12.2//NONSGML v1.0//EN
CALSCALE:GREGORIAN
METHOD:PUBLISH
X-WR-CALNAME:VMJ.FI
X-ORIGINAL-URL:https://vmj.fi
X-WR-CALDESC:Tapahtumat VMJ.FI
REFRESH-INTERVAL;VALUE=DURATION:PT1H
X-Robots-Tag:noindex
X-PUBLISHED-TTL:PT1H
BEGIN:VTIMEZONE
TZID:Europe/Helsinki
BEGIN:DAYLIGHT
TZOFFSETFROM:+0200
TZOFFSETTO:+0300
TZNAME:EEST
DTSTART:20230326T010000
END:DAYLIGHT
BEGIN:STANDARD
TZOFFSETFROM:+0300
TZOFFSETTO:+0200
TZNAME:EET
DTSTART:20231029T010000
END:STANDARD
BEGIN:DAYLIGHT
TZOFFSETFROM:+0200
TZOFFSETTO:+0300
TZNAME:EEST
DTSTART:20240331T010000
END:DAYLIGHT
BEGIN:STANDARD
TZOFFSETFROM:+0300
TZOFFSETTO:+0200
TZNAME:EET
DTSTART:20241027T010000
END:STANDARD
BEGIN:DAYLIGHT
TZOFFSETFROM:+0200
TZOFFSETTO:+0300
TZNAME:EEST
DTSTART:20250330T010000
END:DAYLIGHT
BEGIN:STANDARD
TZOFFSETFROM:+0300
TZOFFSETTO:+0200
TZNAME:EET
DTSTART:20251026T010000
END:STANDARD
BEGIN:DAYLIGHT
TZOFFSETFROM:+0200
TZOFFSETTO:+0300
TZNAME:EEST
DTSTART:20260329T010000
END:DAYLIGHT
BEGIN:STANDARD
TZOFFSETFROM:+0300
TZOFFSETTO:+0200
TZNAME:EET
DTSTART:20261025T010000
END:STANDARD
BEGIN:DAYLIGHT
TZOFFSETFROM:+0200
TZOFFSETTO:+0300
TZNAME:EEST
DTSTART:20270328T010000
END:DAYLIGHT
BEGIN:STANDARD
TZOFFSETFROM:+0300
TZOFFSETTO:+0200
TZNAME:EET
DTSTART:20271031T010000
END:STANDARD
END:VTIMEZONE
BEGIN:VEVENT
DTSTART;TZID=Europe/Helsinki:20240615T153000
DTEND;TZID=Europe/Helsinki:20240615T213000
DTSTAMP:20260424T083917
CREATED:20240607T125951Z
LAST-MODIFIED:20240607T125951Z
UID:1067-1718465400-1718487000@vmj.fi
SUMMARY:Pub crawl vol. 10
DESCRIPTION:Perinteinen ravintolakierros VMJ:n kumppaniravintoloihin. The Alley tuuraa O’Malley’s Pubia. \nJäsenet voivat ottaa yhdistykseen kuulumattomat kaverinsa mukaan menoon! Joka kohteessa luvassa erikoistarjoustuote. \nAikataulu: \n15:30 – 16:30 – Bock’s corner \n17:00 – 17:50 – Sports Office \n18:00 – 18:50 – Zinc \n19:00 – 19:50 – Little Pub \n20:00 -> The Alley
URL:https://vmj.fi/event/pub-crawl-vol-10/
CATEGORIES:Tapahtumat
END:VEVENT
BEGIN:VEVENT
DTSTART;TZID=Europe/Helsinki:20240921T130000
DTEND;TZID=Europe/Helsinki:20240921T230000
DTSTAMP:20260424T083917
CREATED:20240821T133519Z
LAST-MODIFIED:20240821T133519Z
UID:1085-1726923600-1726959600@vmj.fi
SUMMARY:Olutmatka Ouluun
DESCRIPTION:Olutmatka 2024 vie Mallasjääkärit Ouluun! Matka pidetään lauantaina 21.9. ja on kaksiosainen: panimokierros Nailon panimolle ja pubikierros Oulun parhaimpiin paikkoihin. Iltapäivällä kello 13:00 lähdetään Nailon panimolle Oulun rautatieaseman edustalta (itse kierros alkaa 14:00). Hinta kierrokselle on jäsenille 15€. Kierros on englanninkielinen. \nOlutmatkan toinen osuus eli pubikierros alkaa Roosterista 17:00 ruokailulla. Muita kohteita ovat St. Michael\, Graali\, Oluthuone Leskinen ja Mallaskellari. \nKaksiosaisuus mahdollistaa pelkälle pubikierrokselle osallistumisen\, jos matkustaa Vaasasta junalla samana päivänä. Matkustus ja majoitus on jokaisen itse järjestettävä parhaaksi katsomallaan tavalla. \nTapahtumaan on ilmoittautuminen rahastonhoitajalle. Jos osallistut panimokierrokselle\, maksa 15 € VMJ:n tilille. Tarkemmat ohjeet on toimitettu jäsenille sähköpostitse uutiskirjeessä.
URL:https://vmj.fi/event/olutmatka-ouluun/
CATEGORIES:panimovierailu,Tapahtumat
END:VEVENT
BEGIN:VEVENT
DTSTART;TZID=Europe/Helsinki:20241012T160000
DTEND;TZID=Europe/Helsinki:20241012T180000
DTSTAMP:20260424T083917
CREATED:20241007T094939Z
LAST-MODIFIED:20241007T094939Z
UID:1090-1728748800-1728756000@vmj.fi
SUMMARY:Tummat oluet Zincissä
DESCRIPTION:Lauantaina 12.10. järjestetään tummien oluiden maistelu Zincissä. Tiedossa on 5 erilaista olutta hintaan 22\,50€. Tapahtumassa on ennakkoilmoittautuminen\, joka lähetetään osoitteeseen sihteeri (ät) vmj .fi. Tapahtuma maksetaan paikan päällä tiskille.
URL:https://vmj.fi/event/tummat-oluet-zincissa/
LOCATION:Zinc\, Hovioikeudenpuistikko 15\, Vaasa\, 65100
CATEGORIES:Tapahtumat
END:VEVENT
BEGIN:VEVENT
DTSTART;TZID=Europe/Helsinki:20241102T150000
DTEND;TZID=Europe/Helsinki:20241102T170000
DTSTAMP:20260424T083917
CREATED:20241028T154137Z
LAST-MODIFIED:20241028T154137Z
UID:1105-1730559600-1730566800@vmj.fi
SUMMARY:Syyskokous 2024
DESCRIPTION:VMJ:n syyskokous on lauantaina 2.11. klo 15:00 alkaen Officessa. Virallinen kutsu on lähetetty jäsenille sähköpostitse. Ohjelmassa ovat syyskokouksessa tavallisesti käsiteltävät asiat\, eli esitykset ensi vuoden puheenjohtajaksi ja ensi vuoden jäsenmaksuksi.
URL:https://vmj.fi/event/syyskokous-2024/
LOCATION:Office Bar & Restaurant\, Raastuvankatu 15\, Vaasa\, 65100
CATEGORIES:Tapahtumat
END:VEVENT
BEGIN:VEVENT
DTSTART;TZID=Europe/Helsinki:20241214T170000
DTEND;TZID=Europe/Helsinki:20241214T200000
DTSTAMP:20260424T083917
CREATED:20241129T133217Z
LAST-MODIFIED:20241129T133217Z
UID:1112-1734195600-1734206400@vmj.fi
SUMMARY:Joulujuhla 2024
DESCRIPTION:Vuoden 2024 joulujuhlaa vietetään lauantaina 14.12. klo 17 alkaen. \nTarjolla on Bock’sin joulupöytä hintaan 36\,50 €. Ilmoittaudu rahastonhoitajalle (juha at vmj . fi) ja maksa kyseinen summa VMJ:n tilille viestillä ”Joulujuhla 24″+ oma nimesi. \nYhdistyksen ulkopuolisille aveceille joulupöydän hinta on 49€. Ilmoita myös avecin nimi ilmoittautumisen/maksun yhteydessä. \nJos joulupöytä ei allergia tai muista syistä käy\, ole yhteydessä sihteeriin. \nIlmoittautuminen 8.12. mennessä
URL:https://vmj.fi/event/joulujuhla-2024/
LOCATION:Bock’s Corner Brewery\, Gerbyntie 18\, Vaasa
CATEGORIES:Tapahtumat
END:VEVENT
BEGIN:VEVENT
DTSTART;TZID=Europe/Helsinki:20250208T160000
DTEND;TZID=Europe/Helsinki:20250208T180000
DTSTAMP:20260424T083917
CREATED:20250207T161149Z
LAST-MODIFIED:20250207T161149Z
UID:1119-1739030400-1739037600@vmj.fi
SUMMARY:Zinc-maistelu helmikuu -25
DESCRIPTION:Olutmaistelu teemalla ”baarimestarin valinta”. Luvassa kuusi hyvinkin erilaista ja mielenkiintoista olutta. Hinta 22\,50 €\, maksetaan tiskille ennen maistelua. Ennakkoilmoittautuminen osoitteeseen sihteeri [a] vmj .fi
URL:https://vmj.fi/event/zinc-maistelu-helmikuu-25/
LOCATION:Zinc\, Hovioikeudenpuistikko 15\, Vaasa\, 65100
CATEGORIES:Tapahtumat
END:VEVENT
BEGIN:VEVENT
DTSTART;TZID=Europe/Helsinki:20250315T161500
DTEND;TZID=Europe/Helsinki:20250315T200000
DTSTAMP:20260424T083917
CREATED:20250313T155244Z
LAST-MODIFIED:20250313T155244Z
UID:1137-1742055300-1742068800@vmj.fi
SUMMARY:Vuosikokous 2025
DESCRIPTION:Vuoden 2025 vuosikokous järjestetään 15.3.2025 klo 16:15 alkaen. Paikkana Littlepubin ”sivutoimipaikka” Offline Alley osoitteessa Bouchtinkuja\, Kauppapuistikko 10L. \nKäsittelyssä sääntömääräiset asiat. Virallinen kokouskutsu on toimitettu jäsenille sähköpostitse. \n 
URL:https://vmj.fi/event/vuosikokous-2025/
CATEGORIES:Tapahtumat
END:VEVENT
BEGIN:VEVENT
DTSTART;TZID=Europe/Helsinki:20250425T180000
DTEND;TZID=Europe/Helsinki:20250425T210000
DTSTAMP:20260424T083917
CREATED:20250422T131258Z
LAST-MODIFIED:20250422T131258Z
UID:1146-1745604000-1745614800@vmj.fi
SUMMARY:AfterWörk 1/2025
DESCRIPTION:Tervetuloa tapaamaan muita VMJ:n jäseniä aftereille Little pubiin perjantaina 25.4. klo 18:00 alkaen.
URL:https://vmj.fi/event/afterwork-1-2025/
LOCATION:Little Pub\, Hovioikeudenpuistikko 17\, Vaasa\, 65100
CATEGORIES:Tapahtumat
END:VEVENT
BEGIN:VEVENT
DTSTART;TZID=Europe/Helsinki:20250523T180000
DTEND;TZID=Europe/Helsinki:20250523T210000
DTSTAMP:20260424T083917
CREATED:20250516T134834Z
LAST-MODIFIED:20250516T135119Z
UID:1152-1748023200-1748034000@vmj.fi
SUMMARY:AfterWörk Littlessä
DESCRIPTION:Tervetuloa Little pubiin 23.5. klo 18:00 alkaen after work -hengessä!
URL:https://vmj.fi/event/afterwork-littlessa/
LOCATION:Little Pub\, Hovioikeudenpuistikko 17\, Vaasa\, 65100
CATEGORIES:Tapahtumat
END:VEVENT
BEGIN:VEVENT
DTSTART;TZID=Europe/Helsinki:20250614T153000
DTEND;TZID=Europe/Helsinki:20250614T220000
DTSTAMP:20260424T083917
CREATED:20250516T135054Z
LAST-MODIFIED:20250516T135054Z
UID:1154-1749915000-1749938400@vmj.fi
SUMMARY:Pub crawl 2025
DESCRIPTION:Perinteinen kumppaniravintolakierros järjestetään lauantaina 14.6. klo 15:30 Bock’silta alkaen.
URL:https://vmj.fi/event/pub-crawl-2025/
CATEGORIES:Tapahtumat
END:VEVENT
BEGIN:VEVENT
DTSTART;TZID=Europe/Helsinki:20250719T130000
DTEND;TZID=Europe/Helsinki:20250719T140000
DTSTAMP:20260424T083917
CREATED:20250609T132914Z
LAST-MODIFIED:20250609T132914Z
UID:1160-1752930000-1752933600@vmj.fi
SUMMARY:Kesäjuhla 2025
DESCRIPTION:Kokoonnutaan ruokailemaan yhdessä ennen Zinc festeille osallistumista. Yksityiskohdista tiedotetaan uutiskirjeessä.
URL:https://vmj.fi/event/kesajuhla-2025/
CATEGORIES:festari,Tapahtumat
END:VEVENT
BEGIN:VEVENT
DTSTART;TZID=Europe/Helsinki:20250906T130000
DTEND;TZID=Europe/Helsinki:20250906T170000
DTSTAMP:20260424T083917
CREATED:20250822T132824Z
LAST-MODIFIED:20250822T133543Z
UID:1167-1757163600-1757178000@vmj.fi
SUMMARY:Olutmatka 2025
DESCRIPTION:Vuoden 2025 olutmatka suuntautuu Seinäjoelle ja Mallaskosken panimolle. Ohjelmassa Mallaskoskella on panimokierros ja olutmaistelu. Panimokierros alkaa klo 13:00. Mallaskosken jälkeen käydään vielä ainakin Kabackassa\, jossa on mahdollisuus myös ruokailuun. Jokainen järjestää matkansa Seinäjoelle itse\, mutta suositellaan klo lähtevää 11:35 Vaasa-Seinäjoki junaa. \nPanimokierros ja maistelu maksavat jäsenille 15 €. Ilmoittautuminen rahastonhoitajalle sähköpostitse ja maksu yhdistyksen tilille. Tarkemmat ohjeet uutiskirjeessä. \n 
URL:https://vmj.fi/event/olutmatka-2025/
CATEGORIES:panimovierailu,Tapahtumat
END:VEVENT
BEGIN:VEVENT
DTSTART;TZID=Europe/Helsinki:20251213T170000
DTEND;TZID=Europe/Helsinki:20251213T210000
DTSTAMP:20260424T083917
CREATED:20251205T135653Z
LAST-MODIFIED:20251205T135653Z
UID:1187-1765645200-1765659600@vmj.fi
SUMMARY:Joulujuhla 2025
DESCRIPTION:VMJ:n vuoden 2025 joulujuhla järjestetään Bock’s Corner Brewerylla 13.12. klo 17 alkaen.  Tarkemmat tiedot ja ilmoittautumisohjeet on toimitettu jäsenille sähköpostitse.
URL:https://vmj.fi/event/joulujuhla-2025/
LOCATION:Bock’s Corner Brewery\, Gerbyntie 18\, Vaasa
CATEGORIES:Tapahtumat
END:VEVENT
BEGIN:VEVENT
DTSTART;TZID=Europe/Helsinki:20260207T160000
DTEND;TZID=Europe/Helsinki:20260207T180000
DTSTAMP:20260424T083917
CREATED:20260204T162639Z
LAST-MODIFIED:20260204T162639Z
UID:1195-1770480000-1770487200@vmj.fi
SUMMARY:Zinc tasting 1/2026
DESCRIPTION:7.2.2026 klo 16 alkaen. Tarjolla kuusi korkeatasoista olutta hintaan 28 €. Ilmoittautumisohjeet on toimitettu jäsinille sähköpostitse.
URL:https://vmj.fi/event/zinc-tasting-1-2026/
LOCATION:Zinc\, Hovioikeudenpuistikko 15\, Vaasa\, 65100
CATEGORIES:Tapahtumat
END:VEVENT
BEGIN:VEVENT
DTSTART;TZID=Europe/Helsinki:20260314T143000
DTEND;TZID=Europe/Helsinki:20260314T170000
DTSTAMP:20260424T083917
CREATED:20260313T132831Z
LAST-MODIFIED:20260313T132930Z
UID:1213-1773498600-1773507600@vmj.fi
SUMMARY:Vuosikokous 2026
DESCRIPTION:Vaasan Mallasjääkärit ry:n 2026 vuosikokous pidetään Officessa lauantaina 14.3. klo 14:30 alkaen. Käsittelyssä sääntömääräiset asiat. Virallinen kutsu on toimitettu jäsenille sähköpostitse.
URL:https://vmj.fi/event/vuosikokous-2026/
LOCATION:Office Bar & Restaurant\, Raastuvankatu 15\, Vaasa\, 65100
CATEGORIES:Tapahtumat
END:VEVENT
END:VCALENDAR