BEGIN:VCALENDAR
VERSION:2.0
PRODID:-//VMJ.FI - ECPv6.15.12.2//NONSGML v1.0//EN
CALSCALE:GREGORIAN
METHOD:PUBLISH
X-WR-CALNAME:VMJ.FI
X-ORIGINAL-URL:https://vmj.fi
X-WR-CALDESC:Tapahtumat VMJ.FI
REFRESH-INTERVAL;VALUE=DURATION:PT1H
X-Robots-Tag:noindex
X-PUBLISHED-TTL:PT1H
BEGIN:VTIMEZONE
TZID:Europe/Helsinki
BEGIN:DAYLIGHT
TZOFFSETFROM:+0200
TZOFFSETTO:+0300
TZNAME:EEST
DTSTART:20230326T010000
END:DAYLIGHT
BEGIN:STANDARD
TZOFFSETFROM:+0300
TZOFFSETTO:+0200
TZNAME:EET
DTSTART:20231029T010000
END:STANDARD
BEGIN:DAYLIGHT
TZOFFSETFROM:+0200
TZOFFSETTO:+0300
TZNAME:EEST
DTSTART:20240331T010000
END:DAYLIGHT
BEGIN:STANDARD
TZOFFSETFROM:+0300
TZOFFSETTO:+0200
TZNAME:EET
DTSTART:20241027T010000
END:STANDARD
BEGIN:DAYLIGHT
TZOFFSETFROM:+0200
TZOFFSETTO:+0300
TZNAME:EEST
DTSTART:20250330T010000
END:DAYLIGHT
BEGIN:STANDARD
TZOFFSETFROM:+0300
TZOFFSETTO:+0200
TZNAME:EET
DTSTART:20251026T010000
END:STANDARD
END:VTIMEZONE
BEGIN:VEVENT
DTSTART;TZID=Europe/Helsinki:20240518T150000
DTEND;TZID=Europe/Helsinki:20240518T170000
DTSTAMP:20260424T083114
CREATED:20240513T075252Z
LAST-MODIFIED:20240513T075252Z
UID:1060-1716044400-1716051600@vmj.fi
SUMMARY:Kesäoluita Zincissä
DESCRIPTION:Kesäolut-teemainen maistelu Zincissä järjestetään lauantaina 18.5. klo 15:00 alken. Tarjolla 6 eri tyylistä\, kesäistä olutta (1 dl per olut). Hinta 21 €. Lisäksi VMJ:n jäsenille -10% loppuillaksi Zincissä. Ennakkoilmoittautuminen osoitteeseen sihteeri (a) vmj. fi. Tapahtuma maksetaan paikan päällä tiskille.
URL:https://vmj.fi/event/kesaoluita-zincissa/
LOCATION:Zinc\, Hovioikeudenpuistikko 15\, Vaasa\, 65100
CATEGORIES:Tapahtumat
END:VEVENT
END:VCALENDAR