BEGIN:VCALENDAR
VERSION:2.0
PRODID:-//VMJ.FI - ECPv6.15.12.2//NONSGML v1.0//EN
CALSCALE:GREGORIAN
METHOD:PUBLISH
X-ORIGINAL-URL:https://vmj.fi
X-WR-CALDESC:Tapahtumat VMJ.FI
REFRESH-INTERVAL;VALUE=DURATION:PT1H
X-Robots-Tag:noindex
X-PUBLISHED-TTL:PT1H
BEGIN:VTIMEZONE
TZID:Europe/Helsinki
BEGIN:DAYLIGHT
TZOFFSETFROM:+0200
TZOFFSETTO:+0300
TZNAME:EEST
DTSTART:20220327T010000
END:DAYLIGHT
BEGIN:STANDARD
TZOFFSETFROM:+0300
TZOFFSETTO:+0200
TZNAME:EET
DTSTART:20221030T010000
END:STANDARD
BEGIN:DAYLIGHT
TZOFFSETFROM:+0200
TZOFFSETTO:+0300
TZNAME:EEST
DTSTART:20230326T010000
END:DAYLIGHT
BEGIN:STANDARD
TZOFFSETFROM:+0300
TZOFFSETTO:+0200
TZNAME:EET
DTSTART:20231029T010000
END:STANDARD
BEGIN:DAYLIGHT
TZOFFSETFROM:+0200
TZOFFSETTO:+0300
TZNAME:EEST
DTSTART:20240331T010000
END:DAYLIGHT
BEGIN:STANDARD
TZOFFSETFROM:+0300
TZOFFSETTO:+0200
TZNAME:EET
DTSTART:20241027T010000
END:STANDARD
END:VTIMEZONE
BEGIN:VEVENT
DTSTART;TZID=Europe/Helsinki:20231209T190000
DTEND;TZID=Europe/Helsinki:20231209T220000
DTSTAMP:20260424T154824
CREATED:20231202T175529Z
LAST-MODIFIED:20231202T175529Z
UID:1022-1702148400-1702159200@vmj.fi
SUMMARY:Joulujuhla 2023
DESCRIPTION:VMJ:n vuoden 2023 joulujuhla järjestetään Erns Salongerissa lauantaina 9.12 klo 19:00 alkaen. Tarjolla on kolmen ruokalajin illallinen\, jossa pääruolle on  liha- tai kalavaihtoehto. Ilmoitathan kumman valitset. Hinta jäsenille on 30 €. Ilmoittautuminen rahastonhoitajalle (juha [at] vmj .fi) 3.12. mennessä. Maksu etukäteen VMJ:n tilille viestillä ”Joulujuhla 23”. Tarkemmat ohjeet on lähetetty jäsenille sähköpostilla.
URL:https://vmj.fi/event/joulujuhla-2023/
LOCATION:Ernst Salonger\, Hietasaarenkatu 7\, Vaasa\, 65100
CATEGORIES:Tapahtumat
END:VEVENT
END:VCALENDAR