BEGIN:VCALENDAR
VERSION:2.0
PRODID:-//VMJ.FI - ECPv6.15.12.2//NONSGML v1.0//EN
CALSCALE:GREGORIAN
METHOD:PUBLISH
X-WR-CALNAME:VMJ.FI
X-ORIGINAL-URL:https://vmj.fi
X-WR-CALDESC:Tapahtumat VMJ.FI
REFRESH-INTERVAL;VALUE=DURATION:PT1H
X-Robots-Tag:noindex
X-PUBLISHED-TTL:PT1H
BEGIN:VTIMEZONE
TZID:Europe/Helsinki
BEGIN:DAYLIGHT
TZOFFSETFROM:+0200
TZOFFSETTO:+0300
TZNAME:EEST
DTSTART:20210328T010000
END:DAYLIGHT
BEGIN:STANDARD
TZOFFSETFROM:+0300
TZOFFSETTO:+0200
TZNAME:EET
DTSTART:20211031T010000
END:STANDARD
BEGIN:DAYLIGHT
TZOFFSETFROM:+0200
TZOFFSETTO:+0300
TZNAME:EEST
DTSTART:20220327T010000
END:DAYLIGHT
BEGIN:STANDARD
TZOFFSETFROM:+0300
TZOFFSETTO:+0200
TZNAME:EET
DTSTART:20221030T010000
END:STANDARD
BEGIN:DAYLIGHT
TZOFFSETFROM:+0200
TZOFFSETTO:+0300
TZNAME:EEST
DTSTART:20230326T010000
END:DAYLIGHT
BEGIN:STANDARD
TZOFFSETFROM:+0300
TZOFFSETTO:+0200
TZNAME:EET
DTSTART:20231029T010000
END:STANDARD
END:VTIMEZONE
BEGIN:VEVENT
DTSTART;TZID=Europe/Helsinki:20221210T170000
DTEND;TZID=Europe/Helsinki:20221210T200000
DTSTAMP:20260425T161825
CREATED:20221031T151233Z
LAST-MODIFIED:20221031T151233Z
UID:916-1670691600-1670702400@vmj.fi
SUMMARY:VMJ:n joulujuhla 2022
DESCRIPTION:Vaasan Mallasjääkärien perinteinen joulujuhla järjestetään tänä vuonna Bock’s Corner Breweryssa 10.12. klo 17:00 alkaen. Tiedossa ruokailua ja hyvää seuraa! Kutsu tarkempine tietoineen lähetetään jäsenille sähköpostitse.
URL:https://vmj.fi/event/vmjn-joulujuhla-2022/
LOCATION:Bock’s Corner Brewery\, Gerbyntie 18\, Vaasa
CATEGORIES:Tapahtumat
END:VEVENT
END:VCALENDAR