BEGIN:VCALENDAR
VERSION:2.0
PRODID:-//VMJ.FI - ECPv6.15.12.2//NONSGML v1.0//EN
CALSCALE:GREGORIAN
METHOD:PUBLISH
X-WR-CALNAME:VMJ.FI
X-ORIGINAL-URL:https://vmj.fi
X-WR-CALDESC:Tapahtumat VMJ.FI
REFRESH-INTERVAL;VALUE=DURATION:PT1H
X-Robots-Tag:noindex
X-PUBLISHED-TTL:PT1H
BEGIN:VTIMEZONE
TZID:Europe/Helsinki
BEGIN:DAYLIGHT
TZOFFSETFROM:+0200
TZOFFSETTO:+0300
TZNAME:EEST
DTSTART:20210328T010000
END:DAYLIGHT
BEGIN:STANDARD
TZOFFSETFROM:+0300
TZOFFSETTO:+0200
TZNAME:EET
DTSTART:20211031T010000
END:STANDARD
BEGIN:DAYLIGHT
TZOFFSETFROM:+0200
TZOFFSETTO:+0300
TZNAME:EEST
DTSTART:20220327T010000
END:DAYLIGHT
BEGIN:STANDARD
TZOFFSETFROM:+0300
TZOFFSETTO:+0200
TZNAME:EET
DTSTART:20221030T010000
END:STANDARD
BEGIN:DAYLIGHT
TZOFFSETFROM:+0200
TZOFFSETTO:+0300
TZNAME:EEST
DTSTART:20230326T010000
END:DAYLIGHT
BEGIN:STANDARD
TZOFFSETFROM:+0300
TZOFFSETTO:+0200
TZNAME:EET
DTSTART:20231029T010000
END:STANDARD
END:VTIMEZONE
BEGIN:VEVENT
DTSTART;TZID=Europe/Helsinki:20221105T180000
DTEND;TZID=Europe/Helsinki:20221105T220000
DTSTAMP:20260425T161825
CREATED:20221031T150906Z
LAST-MODIFIED:20221031T150906Z
UID:914-1667671200-1667685600@vmj.fi
SUMMARY:Jäsentapaaminen Little Pubissa
DESCRIPTION:Vapaamuotoinen VMJ:n jäsenten tapaaminen. Luvassa keskustelua yhdistyksen toiminnasta\, oluesta ja elämästä yleensä sekä tietysti oluesta nauttimista.
URL:https://vmj.fi/event/jasentapaaminen-little-pubissa/
LOCATION:Little Pub\, Hovioikeudenpuistikko 17\, Vaasa\, 65100
CATEGORIES:Tapahtumat
END:VEVENT
END:VCALENDAR