BEGIN:VCALENDAR
VERSION:2.0
PRODID:-//VMJ.FI - ECPv6.15.12.2//NONSGML v1.0//EN
CALSCALE:GREGORIAN
METHOD:PUBLISH
X-WR-CALNAME:VMJ.FI
X-ORIGINAL-URL:https://vmj.fi
X-WR-CALDESC:Tapahtumat VMJ.FI
REFRESH-INTERVAL;VALUE=DURATION:PT1H
X-Robots-Tag:noindex
X-PUBLISHED-TTL:PT1H
BEGIN:VTIMEZONE
TZID:Europe/Helsinki
BEGIN:DAYLIGHT
TZOFFSETFROM:+0200
TZOFFSETTO:+0300
TZNAME:EEST
DTSTART:20210328T010000
END:DAYLIGHT
BEGIN:STANDARD
TZOFFSETFROM:+0300
TZOFFSETTO:+0200
TZNAME:EET
DTSTART:20211031T010000
END:STANDARD
BEGIN:DAYLIGHT
TZOFFSETFROM:+0200
TZOFFSETTO:+0300
TZNAME:EEST
DTSTART:20220327T010000
END:DAYLIGHT
BEGIN:STANDARD
TZOFFSETFROM:+0300
TZOFFSETTO:+0200
TZNAME:EET
DTSTART:20221030T010000
END:STANDARD
BEGIN:DAYLIGHT
TZOFFSETFROM:+0200
TZOFFSETTO:+0300
TZNAME:EEST
DTSTART:20230326T010000
END:DAYLIGHT
BEGIN:STANDARD
TZOFFSETFROM:+0300
TZOFFSETTO:+0200
TZNAME:EET
DTSTART:20231029T010000
END:STANDARD
END:VTIMEZONE
BEGIN:VEVENT
DTSTART;TZID=Europe/Helsinki:20221015T160000
DTEND;TZID=Europe/Helsinki:20221015T180000
DTSTAMP:20260425T161811
CREATED:20220930T133238Z
LAST-MODIFIED:20220930T133812Z
UID:907-1665849600-1665856800@vmj.fi
SUMMARY:Syyskokous 2022
DESCRIPTION:Vaasan Mallasjääkärit ry:n syksyn yleiskokous järjestetään lauantaina 15.10.2022 kello 16.00 alkaen O’Malley’sissä. Virallinen kutsu on lähetetty jäsenille sähköpostitse. Syyskokouksen asialistalla ovat yhdistyksen puheenjohtajan alustava valinta ensi vuodelle ja ensi vuoden jäsenmaksu.
URL:https://vmj.fi/event/syyskokous-2022/
LOCATION:O’Malley’s Irish Pub\, Hovioikeudenpuistikko 21\, Vaasa\, Pohjanmaa\, 65100\, Suomi
CATEGORIES:Tapahtumat
END:VEVENT
END:VCALENDAR