BEGIN:VCALENDAR
VERSION:2.0
PRODID:-//VMJ.FI - ECPv6.15.12.2//NONSGML v1.0//EN
CALSCALE:GREGORIAN
METHOD:PUBLISH
X-WR-CALNAME:VMJ.FI
X-ORIGINAL-URL:https://vmj.fi
X-WR-CALDESC:Tapahtumat VMJ.FI
REFRESH-INTERVAL;VALUE=DURATION:PT1H
X-Robots-Tag:noindex
X-PUBLISHED-TTL:PT1H
BEGIN:VTIMEZONE
TZID:Europe/Helsinki
BEGIN:DAYLIGHT
TZOFFSETFROM:+0200
TZOFFSETTO:+0300
TZNAME:EEST
DTSTART:20210328T010000
END:DAYLIGHT
BEGIN:STANDARD
TZOFFSETFROM:+0300
TZOFFSETTO:+0200
TZNAME:EET
DTSTART:20211031T010000
END:STANDARD
BEGIN:DAYLIGHT
TZOFFSETFROM:+0200
TZOFFSETTO:+0300
TZNAME:EEST
DTSTART:20220327T010000
END:DAYLIGHT
BEGIN:STANDARD
TZOFFSETFROM:+0300
TZOFFSETTO:+0200
TZNAME:EET
DTSTART:20221030T010000
END:STANDARD
BEGIN:DAYLIGHT
TZOFFSETFROM:+0200
TZOFFSETTO:+0300
TZNAME:EEST
DTSTART:20230326T010000
END:DAYLIGHT
BEGIN:STANDARD
TZOFFSETFROM:+0300
TZOFFSETTO:+0200
TZNAME:EET
DTSTART:20231029T010000
END:STANDARD
END:VTIMEZONE
BEGIN:VEVENT
DTSTART;TZID=Europe/Helsinki:20220903T104500
DTEND;TZID=Europe/Helsinki:20220903T150000
DTSTAMP:20260425T181240
CREATED:20220811T135708Z
LAST-MODIFIED:20220823T150718Z
UID:891-1662201900-1662217200@vmj.fi
SUMMARY:Keppo Bryggeri panimovierailu
DESCRIPTION:Vieraillaan Kepon panimolla Jepualla! Panimovierailu pidetään lauantaina 3.9. ja lähtö tapahtuu kello 10:45 vanhalta bussiasemalta Olympiakorttelin vierestä.  Hintaa tapahtumalla on 20€. Tapahtuma kestää matkoineen n. 4-5 tuntia ja siihen kuuluu matka panimolle ja kierros siellä. Panimon kaupasta voi kierroksen lopuksi ostaa kotimatkalle tuliaisia. \nSitovat ennakkoilmoittautumiset tulee lähettää rahastonhoitajalle (juha (a) vmj .fi) 30.8. mennessä ja maksu suoritetaan VMJ:n tilille. Aseta maksun viestiksi ”Keppo22”. Vierailulla on tilaa 30 mallasjääkärille.
URL:https://vmj.fi/event/keppo-bryggeri-panimovierailu/
CATEGORIES:Tapahtumat
END:VEVENT
END:VCALENDAR