BEGIN:VCALENDAR
VERSION:2.0
PRODID:-//VMJ.FI - ECPv6.15.12.2//NONSGML v1.0//EN
CALSCALE:GREGORIAN
METHOD:PUBLISH
X-WR-CALNAME:VMJ.FI
X-ORIGINAL-URL:https://vmj.fi
X-WR-CALDESC:Tapahtumat VMJ.FI
REFRESH-INTERVAL;VALUE=DURATION:PT1H
X-Robots-Tag:noindex
X-PUBLISHED-TTL:PT1H
BEGIN:VTIMEZONE
TZID:Europe/Helsinki
BEGIN:DAYLIGHT
TZOFFSETFROM:+0200
TZOFFSETTO:+0300
TZNAME:EEST
DTSTART:20210328T010000
END:DAYLIGHT
BEGIN:STANDARD
TZOFFSETFROM:+0300
TZOFFSETTO:+0200
TZNAME:EET
DTSTART:20211031T010000
END:STANDARD
BEGIN:DAYLIGHT
TZOFFSETFROM:+0200
TZOFFSETTO:+0300
TZNAME:EEST
DTSTART:20220327T010000
END:DAYLIGHT
BEGIN:STANDARD
TZOFFSETFROM:+0300
TZOFFSETTO:+0200
TZNAME:EET
DTSTART:20221030T010000
END:STANDARD
BEGIN:DAYLIGHT
TZOFFSETFROM:+0200
TZOFFSETTO:+0300
TZNAME:EEST
DTSTART:20230326T010000
END:DAYLIGHT
BEGIN:STANDARD
TZOFFSETFROM:+0300
TZOFFSETTO:+0200
TZNAME:EET
DTSTART:20231029T010000
END:STANDARD
END:VTIMEZONE
BEGIN:VEVENT
DTSTART;TZID=Europe/Helsinki:20220730T170000
DTEND;TZID=Europe/Helsinki:20220730T200000
DTSTAMP:20260425T210442
CREATED:20220715T122537Z
LAST-MODIFIED:20220715T122537Z
UID:879-1659200400-1659211200@vmj.fi
SUMMARY:Kesäjuhla 2022
DESCRIPTION:VMJ:n jäsenien kesäjuhla järjestetään Bock’silla 30.7. klo 17:00 alkaen ruokailun merkeissä. Tarjolla on kaksi vaihtoehtoa\, sillä osallistujat voivat valita Bock’sin Chef’s Menun (hinta 30€) tai Bock’s burgerin (10€ – Legend burger tai Vegan burger) väliltä. Ruokiin kuuluu yksi valinnainen hanaolut. Tapahtumaan voi ottaa myös avecin mukaan\, jolloin ruokailun hinta on Chef’s menulle 40€ ja Burgereille 20€. \nTapahtumassa on ennakkoilmoittautuminen rahastonhoitajalle (juha (a) vmj .fi) 27.7. mennessä. Ilmoita samalla mitä syöt\, mahdolliset allergiat tai dietit sekä maksa valitsemasi ruoka VMJ:n tilille. Aseta maksun viestiksi ”Kesäjuhla 2022” sekä osallistujien nimet jotka maksat\, jos otat mukaan avecin ja maksat hänetkin. \nKutsu tapahtumaan on lähetetty jäsenille sähköpostilla.
URL:https://vmj.fi/event/kesajuhla-2022/
LOCATION:Bock’s Corner Brewery\, Gerbyntie 18\, Vaasa
CATEGORIES:Tapahtumat
END:VEVENT
END:VCALENDAR