BEGIN:VCALENDAR
VERSION:2.0
PRODID:-//VMJ.FI - ECPv6.15.12.2//NONSGML v1.0//EN
CALSCALE:GREGORIAN
METHOD:PUBLISH
X-WR-CALNAME:VMJ.FI
X-ORIGINAL-URL:https://vmj.fi
X-WR-CALDESC:Tapahtumat VMJ.FI
REFRESH-INTERVAL;VALUE=DURATION:PT1H
X-Robots-Tag:noindex
X-PUBLISHED-TTL:PT1H
BEGIN:VTIMEZONE
TZID:Europe/Helsinki
BEGIN:DAYLIGHT
TZOFFSETFROM:+0200
TZOFFSETTO:+0300
TZNAME:EEST
DTSTART:20220327T010000
END:DAYLIGHT
BEGIN:STANDARD
TZOFFSETFROM:+0300
TZOFFSETTO:+0200
TZNAME:EET
DTSTART:20221030T010000
END:STANDARD
BEGIN:DAYLIGHT
TZOFFSETFROM:+0200
TZOFFSETTO:+0300
TZNAME:EEST
DTSTART:20230326T010000
END:DAYLIGHT
BEGIN:STANDARD
TZOFFSETFROM:+0300
TZOFFSETTO:+0200
TZNAME:EET
DTSTART:20231029T010000
END:STANDARD
BEGIN:DAYLIGHT
TZOFFSETFROM:+0200
TZOFFSETTO:+0300
TZNAME:EEST
DTSTART:20240331T010000
END:DAYLIGHT
BEGIN:STANDARD
TZOFFSETFROM:+0300
TZOFFSETTO:+0200
TZNAME:EET
DTSTART:20241027T010000
END:STANDARD
END:VTIMEZONE
BEGIN:VEVENT
DTSTART;TZID=Europe/Helsinki:20231028T140000
DTEND;TZID=Europe/Helsinki:20231028T170000
DTSTAMP:20260424T222837
CREATED:20231011T133252Z
LAST-MODIFIED:20231011T133400Z
UID:999-1698501600-1698512400@vmj.fi
SUMMARY:Syyskokous 2023
DESCRIPTION:Vaasan Mallasjääkäreiden syyskokous järjestetään tänä vuonna Sports Officessa 28.10. klo 14:00 alkaen. \nKokouksessa käsitellään VMJ:n vuoden 2024 kaksi tärkeintä asiaa: alustava puheenjohtajan valinta sekä jäsenmaksu. Kokouksessa keskustellaan myös jäsenistön esille tuomista asioista. Tapahtuma on jäsenille ilmainen ja kestää vajaat kaksi tuntia. \nVirallinen kokouskutsu on lähetetty jäsenille sähköpostitse. \n 
URL:https://vmj.fi/event/syyskokous-2023/
LOCATION:Office Bar & Restaurant\, Raastuvankatu 15\, Vaasa\, 65100
CATEGORIES:Tapahtumat
END:VEVENT
END:VCALENDAR