BEGIN:VCALENDAR
VERSION:2.0
PRODID:-//VMJ.FI - ECPv6.15.12.2//NONSGML v1.0//EN
CALSCALE:GREGORIAN
METHOD:PUBLISH
X-WR-CALNAME:VMJ.FI
X-ORIGINAL-URL:https://vmj.fi
X-WR-CALDESC:Tapahtumat VMJ.FI
REFRESH-INTERVAL;VALUE=DURATION:PT1H
X-Robots-Tag:noindex
X-PUBLISHED-TTL:PT1H
BEGIN:VTIMEZONE
TZID:Europe/Helsinki
BEGIN:DAYLIGHT
TZOFFSETFROM:+0200
TZOFFSETTO:+0300
TZNAME:EEST
DTSTART:20220327T010000
END:DAYLIGHT
BEGIN:STANDARD
TZOFFSETFROM:+0300
TZOFFSETTO:+0200
TZNAME:EET
DTSTART:20221030T010000
END:STANDARD
BEGIN:DAYLIGHT
TZOFFSETFROM:+0200
TZOFFSETTO:+0300
TZNAME:EEST
DTSTART:20230326T010000
END:DAYLIGHT
BEGIN:STANDARD
TZOFFSETFROM:+0300
TZOFFSETTO:+0200
TZNAME:EET
DTSTART:20231029T010000
END:STANDARD
BEGIN:DAYLIGHT
TZOFFSETFROM:+0200
TZOFFSETTO:+0300
TZNAME:EEST
DTSTART:20240331T010000
END:DAYLIGHT
BEGIN:STANDARD
TZOFFSETFROM:+0300
TZOFFSETTO:+0200
TZNAME:EET
DTSTART:20241027T010000
END:STANDARD
END:VTIMEZONE
BEGIN:VEVENT
DTSTART;TZID=Europe/Helsinki:20230527T153000
DTEND;TZID=Europe/Helsinki:20230527T220000
DTSTAMP:20260425T063104
CREATED:20230519T142133Z
LAST-MODIFIED:20230519T142133Z
UID:969-1685201400-1685224800@vmj.fi
SUMMARY:Pub Crawl 1/2023
DESCRIPTION:Perinteinen kumppaniravintolakierros eli pub crawl järjestetään jälleen 27.5. klo 15:30 alkaen. \nTapahtuma on kaikille avoin\, joten ota ystävä mukaan tutustumaan Mallasjääkärien toimintaan! Jokaisessa kohteessa on tiedossa olut erikoishintaan kaikille kiertäjille. Huomaathan että siirtymälle kierroksen aloittavalta Bock’silta keskustaan on varattu ylimääräinen 30 min. \nKierroksen tarkka aikataulu: \n15.30 – 16.30 Bocks17.00 – 17.50 Sports Office18.00 – 18.50 Ernst salonger19.00 – 19.50 Zinc20.00 – 20.50 Little Pub21:00 – 22:00 O’Malley’s
URL:https://vmj.fi/event/pub-crawl-1-2023/
CATEGORIES:Tapahtumat
END:VEVENT
END:VCALENDAR