BEGIN:VCALENDAR
VERSION:2.0
PRODID:-//VMJ.FI - ECPv6.15.12.2//NONSGML v1.0//EN
CALSCALE:GREGORIAN
METHOD:PUBLISH
X-WR-CALNAME:VMJ.FI
X-ORIGINAL-URL:http://vmj.fi
X-WR-CALDESC:Tapahtumat VMJ.FI
REFRESH-INTERVAL;VALUE=DURATION:PT1H
X-Robots-Tag:noindex
X-PUBLISHED-TTL:PT1H
BEGIN:VTIMEZONE
TZID:Europe/Helsinki
BEGIN:DAYLIGHT
TZOFFSETFROM:+0200
TZOFFSETTO:+0300
TZNAME:EEST
DTSTART:20190331T010000
END:DAYLIGHT
BEGIN:STANDARD
TZOFFSETFROM:+0300
TZOFFSETTO:+0200
TZNAME:EET
DTSTART:20191027T010000
END:STANDARD
BEGIN:DAYLIGHT
TZOFFSETFROM:+0200
TZOFFSETTO:+0300
TZNAME:EEST
DTSTART:20200329T010000
END:DAYLIGHT
BEGIN:STANDARD
TZOFFSETFROM:+0300
TZOFFSETTO:+0200
TZNAME:EET
DTSTART:20201025T010000
END:STANDARD
BEGIN:DAYLIGHT
TZOFFSETFROM:+0200
TZOFFSETTO:+0300
TZNAME:EEST
DTSTART:20210328T010000
END:DAYLIGHT
BEGIN:STANDARD
TZOFFSETFROM:+0300
TZOFFSETTO:+0200
TZNAME:EET
DTSTART:20211031T010000
END:STANDARD
END:VTIMEZONE
BEGIN:VEVENT
DTSTART;TZID=Europe/Helsinki:20200220T180000
DTEND;TZID=Europe/Helsinki:20200220T200000
DTSTAMP:20260424T075405
CREATED:20200214T105426Z
LAST-MODIFIED:20200214T105426Z
UID:670-1582221600-1582228800@vmj.fi
SUMMARY:Tasting @ Butcher & Banker
DESCRIPTION:Butcher & Banker järjestää olutmaistelun torstaina 20.2. kello 18:00 alkaen. Maistila+ -maistelu\, eli käymme läpi Maistilan tuotteita\, sekä muutaman  uuden mielenkiintoisen muun panimon tuotteen. Hintana tapahtumalla on 20€  ja tilaa on 15 maistelijalle. Tapahtumalla ei ole ilmoittautumista: ilmestyt vain Butcher & Bankeriin ennen kello 18:00 ja pääset mukaan. \n— \nÖlsmakning 20.2. klockan 18:00 i Butcher & Banker. Smakningen fokuserar på Maistilas öl\, med några intressanta nya öl av andra bryggeri. Evenemangen kostar 20€ och har rum för 15 smakare. Evenemanget har ingen anmälning\, du behöver bara gå till Butcher & Banker före 18:00.
URL:http://vmj.fi/event/tasting-butcher-banker/
LOCATION:Butcher & Banker\, Vaasanpuistikko 18 C\, Vaasa\, 65100\, Suomi
CATEGORIES:Tapahtumat
END:VEVENT
END:VCALENDAR