BEGIN:VCALENDAR
VERSION:2.0
PRODID:-//VMJ.FI - ECPv6.15.12.2//NONSGML v1.0//EN
CALSCALE:GREGORIAN
METHOD:PUBLISH
X-ORIGINAL-URL:http://vmj.fi
X-WR-CALDESC:Tapahtumat VMJ.FI
REFRESH-INTERVAL;VALUE=DURATION:PT1H
X-Robots-Tag:noindex
X-PUBLISHED-TTL:PT1H
BEGIN:VTIMEZONE
TZID:Europe/Helsinki
BEGIN:DAYLIGHT
TZOFFSETFROM:+0200
TZOFFSETTO:+0300
TZNAME:EEST
DTSTART:20180325T010000
END:DAYLIGHT
BEGIN:STANDARD
TZOFFSETFROM:+0300
TZOFFSETTO:+0200
TZNAME:EET
DTSTART:20181028T010000
END:STANDARD
BEGIN:DAYLIGHT
TZOFFSETFROM:+0200
TZOFFSETTO:+0300
TZNAME:EEST
DTSTART:20190331T010000
END:DAYLIGHT
BEGIN:STANDARD
TZOFFSETFROM:+0300
TZOFFSETTO:+0200
TZNAME:EET
DTSTART:20191027T010000
END:STANDARD
BEGIN:DAYLIGHT
TZOFFSETFROM:+0200
TZOFFSETTO:+0300
TZNAME:EEST
DTSTART:20200329T010000
END:DAYLIGHT
BEGIN:STANDARD
TZOFFSETFROM:+0300
TZOFFSETTO:+0200
TZNAME:EET
DTSTART:20201025T010000
END:STANDARD
END:VTIMEZONE
BEGIN:VEVENT
DTSTART;TZID=Europe/Helsinki:20190302T180000
DTEND;TZID=Europe/Helsinki:20190302T203000
DTSTAMP:20260425T015009
CREATED:20190216T162018Z
LAST-MODIFIED:20190216T162018Z
UID:548-1551549600-1551558600@vmj.fi
SUMMARY:Olutmaistelu kahvila Ylikivassa
DESCRIPTION:Olutmaistelu\, teemalla ”vaaleat belgialaistyyliset oluet”. järjestetään lauantaina 2.3. klo 18:00 kahvila Ylikivassa\, (Bouchtinkuja\, Kauppapuistikko 10) \nOluita on viisi kappaletta ja maisteluannos on puoli pulloa osallistujaa kohden. Tapahtuman arvioitu kesto on noin 2\,5 tuntia. Oluet edustavat neljää eri tyyliä (saison\, geuze\, golden ale ja tripel) ja kiinnitämme erityisesti huomiota käytettyihin raaka-aineisiin ja niiden ilmenemiseen oluessa. \nTapahtuma maksaa Mallasjääkäreiden jäsenille 20 €\, mutta jäsen voi ottaa mukaansa 1-2 seuraan kuulumatonta kaveria\, joille hinta on 25 €. Maksimiosallistujamäärä on 20. Ilmoittautumiset 1.3. mennessä osoitteeseen events (at) vmj.fi ja ilmoitathan myös mahdollisten mukanasi tulevien seuraan kuulumattomien kaverien lukumäärän.\nMaistelun vetäjänä toimii Kimmo Keski-Saari. \n— \nProvsmakning av öl på temat ”ljusa öl i belgisk anda” ordnas lördag 2.3. kl 18.00. Platsen är Café Ylikiva (Bouchtska gränden\, Handelsesplanaden 10). Det finns fem öl att provsmaka och en smakportion är en halv flaska per deltagare. Det hela tar ca 2\,5 h i anspråk. Ölen representerar fyra olika stiler (saison\, geuze\, golden ale och tripel) och vi fokuserar främst på råvarorna och hur de framträder i ölen. \nTillställningen kostar 20 € för Maltjägare\, och var och en jägare får ta med 1-2 personer utan medlemskap. För personer som står utanför föreningen kostar tillfället 25 €. Maximalt kan 20 personer delta. Anmälan före 1.3 till events (at) vmj.fi och meddela på samma gång om och hur många du tar med som inte hör till föreningen. Provsmakningen dras av Kimmo Keski-Saari.
URL:http://vmj.fi/event/olutmaistelu-kahvila-ylikivassa/
CATEGORIES:Tapahtumat
END:VEVENT
END:VCALENDAR